BEGIN:VCALENDAR
VERSION:2.0
PRODID:-//KILJ Radio - ECPv6.15.20//NONSGML v1.0//EN
CALSCALE:GREGORIAN
METHOD:PUBLISH
X-WR-CALNAME:KILJ Radio
X-ORIGINAL-URL:https://kilj.com
X-WR-CALDESC:Events for KILJ Radio
REFRESH-INTERVAL;VALUE=DURATION:PT1H
X-Robots-Tag:noindex
X-PUBLISHED-TTL:PT1H
BEGIN:VTIMEZONE
TZID:America/Chicago
BEGIN:DAYLIGHT
TZOFFSETFROM:-0600
TZOFFSETTO:-0500
TZNAME:CDT
DTSTART:20250309T080000
END:DAYLIGHT
BEGIN:STANDARD
TZOFFSETFROM:-0500
TZOFFSETTO:-0600
TZNAME:CST
DTSTART:20251102T070000
END:STANDARD
BEGIN:DAYLIGHT
TZOFFSETFROM:-0600
TZOFFSETTO:-0500
TZNAME:CDT
DTSTART:20260308T080000
END:DAYLIGHT
BEGIN:STANDARD
TZOFFSETFROM:-0500
TZOFFSETTO:-0600
TZNAME:CST
DTSTART:20261101T070000
END:STANDARD
BEGIN:DAYLIGHT
TZOFFSETFROM:-0600
TZOFFSETTO:-0500
TZNAME:CDT
DTSTART:20270314T080000
END:DAYLIGHT
BEGIN:STANDARD
TZOFFSETFROM:-0500
TZOFFSETTO:-0600
TZNAME:CST
DTSTART:20271107T070000
END:STANDARD
END:VTIMEZONE
BEGIN:VEVENT
DTSTART;VALUE=DATE:20260302
DTEND;VALUE=DATE:20260303
DTSTAMP:20260421T065409
CREATED:20260209T152814Z
LAST-MODIFIED:20260219T050205Z
UID:189494-1772409600-1772495999@kilj.com
SUMMARY:Monday
DESCRIPTION:Players Workshop will hold open auditions for Dracula: A Comedy of Terrors on March 1 and 2\, 2026\, at 7:00 p.m. at the Workshop\, 1431 Grove Street in Burlington. The comedy is a fast paced\, over the top send up of Bram Stoker’s classic\, blending elements of Mel Brooks\, Monty Python\, and The 39 Steps. Roles are available for 5 to 6 actors of any gender\, ages 18 and older. For audition packets and more information\, contact director Kara Ewinger at 319-759-9667 or karaewinger@yahoo.com. The production is presented by Players Workshop\, a nonprofit community theater. \nThe Mt. Pleasant High School Music Department presents a Choral Concert at 7pm at the Chapel Auditorium\, 601 N. Main Street.  The concert features all of the high school choirs.  It is a free event and open to the public.
URL:https://kilj.com/event/monday-10/
END:VEVENT
END:VCALENDAR