BEGIN:VCALENDAR
VERSION:2.0
PRODID:-//KILJ Radio - ECPv6.15.20//NONSGML v1.0//EN
CALSCALE:GREGORIAN
METHOD:PUBLISH
X-WR-CALNAME:KILJ Radio
X-ORIGINAL-URL:https://kilj.com
X-WR-CALDESC:Events for KILJ Radio
REFRESH-INTERVAL;VALUE=DURATION:PT1H
X-Robots-Tag:noindex
X-PUBLISHED-TTL:PT1H
BEGIN:VTIMEZONE
TZID:America/Chicago
BEGIN:DAYLIGHT
TZOFFSETFROM:-0600
TZOFFSETTO:-0500
TZNAME:CDT
DTSTART:20250309T080000
END:DAYLIGHT
BEGIN:STANDARD
TZOFFSETFROM:-0500
TZOFFSETTO:-0600
TZNAME:CST
DTSTART:20251102T070000
END:STANDARD
BEGIN:DAYLIGHT
TZOFFSETFROM:-0600
TZOFFSETTO:-0500
TZNAME:CDT
DTSTART:20260308T080000
END:DAYLIGHT
BEGIN:STANDARD
TZOFFSETFROM:-0500
TZOFFSETTO:-0600
TZNAME:CST
DTSTART:20261101T070000
END:STANDARD
BEGIN:DAYLIGHT
TZOFFSETFROM:-0600
TZOFFSETTO:-0500
TZNAME:CDT
DTSTART:20270314T080000
END:DAYLIGHT
BEGIN:STANDARD
TZOFFSETFROM:-0500
TZOFFSETTO:-0600
TZNAME:CST
DTSTART:20271107T070000
END:STANDARD
END:VTIMEZONE
BEGIN:VEVENT
DTSTART;VALUE=DATE:20260303
DTEND;VALUE=DATE:20260304
DTSTAMP:20260421T065451
CREATED:20260220T201644Z
LAST-MODIFIED:20260303T122410Z
UID:189944-1772496000-1772582399@kilj.com
SUMMARY:Tuesday
DESCRIPTION:Mount Pleasant Christian School will host Taco Tuesday tonight from 5 to 6:30 p.m. as high school students serve a fundraiser meal to support their Junior Senior Banquet this spring. The menu includes taco salad bowls\, tacos\, super nachos\, walking tacos\, homemade corn chips and salsa\, and soft serve vanilla ice cream. Guests may dine in or carry out at 1505 East Washington Street in Mount Pleasant. For more information\, call 319-385-8613. \nHCHC Diabetes Education has also announced classes for March!  DIABINGO is scheduled for from 2p-3p. Engaging\, interactive\, and a free tool to test your diabetes knowledge!  The Annual Diabetes Review class is scheduled for Thursday\, March 12th from 1pm – 3pm and an RSVP is needed.  Please call 319-385-6518.  The program is open to anyone who has completed the 10-hour diabetes class.
URL:https://kilj.com/event/tuesday-10/
END:VEVENT
END:VCALENDAR