BEGIN:VCALENDAR
VERSION:2.0
PRODID:-//KILJ Radio - ECPv6.15.20//NONSGML v1.0//EN
CALSCALE:GREGORIAN
METHOD:PUBLISH
X-WR-CALNAME:KILJ Radio
X-ORIGINAL-URL:https://kilj.com
X-WR-CALDESC:Events for KILJ Radio
REFRESH-INTERVAL;VALUE=DURATION:PT1H
X-Robots-Tag:noindex
X-PUBLISHED-TTL:PT1H
BEGIN:VTIMEZONE
TZID:America/Chicago
BEGIN:DAYLIGHT
TZOFFSETFROM:-0600
TZOFFSETTO:-0500
TZNAME:CDT
DTSTART:20250309T080000
END:DAYLIGHT
BEGIN:STANDARD
TZOFFSETFROM:-0500
TZOFFSETTO:-0600
TZNAME:CST
DTSTART:20251102T070000
END:STANDARD
BEGIN:DAYLIGHT
TZOFFSETFROM:-0600
TZOFFSETTO:-0500
TZNAME:CDT
DTSTART:20260308T080000
END:DAYLIGHT
BEGIN:STANDARD
TZOFFSETFROM:-0500
TZOFFSETTO:-0600
TZNAME:CST
DTSTART:20261101T070000
END:STANDARD
BEGIN:DAYLIGHT
TZOFFSETFROM:-0600
TZOFFSETTO:-0500
TZNAME:CDT
DTSTART:20270314T080000
END:DAYLIGHT
BEGIN:STANDARD
TZOFFSETFROM:-0500
TZOFFSETTO:-0600
TZNAME:CST
DTSTART:20271107T070000
END:STANDARD
END:VTIMEZONE
BEGIN:VEVENT
DTSTART;VALUE=DATE:20260312
DTEND;VALUE=DATE:20260313
DTSTAMP:20260420T161946
CREATED:20260114T121332Z
LAST-MODIFIED:20260225T160805Z
UID:187966-1773273600-1773359999@kilj.com
SUMMARY:Thursday
DESCRIPTION:Math and Literacy Family Night will be held Thursday\, March 12\, from 4:00 to 6:00 p.m. at Central Campus in the Howe Activity Center\, 100 Franklin Street in Mount Pleasant. This open house style event will feature snacks\, games\, and activities for families to enjoy together. Every student who attends will receive a free book. \nThe Mt. Pleasant Community High School Band will present its Spring Band Concert on Thursday\, March 12 at 7:00 pm. The concert will take place at Chapel Auditorium and is free and open to the public. Community members are invited to enjoy an evening of music performed by local student musicians.
URL:https://kilj.com/event/thursday-2/
END:VEVENT
END:VCALENDAR