BEGIN:VCALENDAR
VERSION:2.0
PRODID:-//KILJ Radio - ECPv6.15.20//NONSGML v1.0//EN
CALSCALE:GREGORIAN
METHOD:PUBLISH
X-ORIGINAL-URL:https://kilj.com
X-WR-CALDESC:Events for KILJ Radio
REFRESH-INTERVAL;VALUE=DURATION:PT1H
X-Robots-Tag:noindex
X-PUBLISHED-TTL:PT1H
BEGIN:VTIMEZONE
TZID:America/Chicago
BEGIN:DAYLIGHT
TZOFFSETFROM:-0600
TZOFFSETTO:-0500
TZNAME:CDT
DTSTART:20250309T080000
END:DAYLIGHT
BEGIN:STANDARD
TZOFFSETFROM:-0500
TZOFFSETTO:-0600
TZNAME:CST
DTSTART:20251102T070000
END:STANDARD
BEGIN:DAYLIGHT
TZOFFSETFROM:-0600
TZOFFSETTO:-0500
TZNAME:CDT
DTSTART:20260308T080000
END:DAYLIGHT
BEGIN:STANDARD
TZOFFSETFROM:-0500
TZOFFSETTO:-0600
TZNAME:CST
DTSTART:20261101T070000
END:STANDARD
BEGIN:DAYLIGHT
TZOFFSETFROM:-0600
TZOFFSETTO:-0500
TZNAME:CDT
DTSTART:20270314T080000
END:DAYLIGHT
BEGIN:STANDARD
TZOFFSETFROM:-0500
TZOFFSETTO:-0600
TZNAME:CST
DTSTART:20271107T070000
END:STANDARD
END:VTIMEZONE
BEGIN:VEVENT
DTSTART;VALUE=DATE:20260313
DTEND;VALUE=DATE:20260314
DTSTAMP:20260420T145206
CREATED:20260213T184324Z
LAST-MODIFIED:20260309T160522Z
UID:189659-1773360000-1773446399@kilj.com
SUMMARY:Friday
DESCRIPTION:The Fairfield Knights of Columbus is hosting “Fish Fry Days”  from 5pm – 7pm  at St. Mary’s Catholic Church Parish Hall\, 3100 W. Madison Street.  Butterfly shrimp or catfish fillet: $12/dinner\, or $5 for a grilled cheese sandwich.  All dinners include baked potato\, vegetable\, cornbread and dessert.  Dine-in or Carry-out is available.  To order carry-out\, call 641-919-2552 or 641-777-3079.  Cash or Venmo accepted and all proceeds go toward scholarships for high school seniors! \nIt’s Fish Fry Friday hosted by the St. Alphonsus Knights of Columbus starting at 5:30pm in Manning Hall\, 607 S. Jackson Street.  Orders must be called in by 11am on each Friday during the Lenten season.  The menu includes a Fish Fillet dinner (fried or baked)\, $15 or a Jumbo Breaded Butterfly Shrimp dinner for $15.  All dinners come with a baked potato\, baked beans\, roll and your choice of applesauce or coleslaw.  Kids 12 & under eat for free with the purchase of an adult meal.  All proceeds from the fish fry go toward scholarships for St. Alphonsus high school seniors.  Dine In or Carry Out:  Tim (319-931-7036)\, Greg (319-931-5466)\, Bob (319-931-6781) \nMount Pleasant Community Theatre Children’s WorkshopMount Pleasant Community Theatre is hosting a Children’s Theatre Workshop titled School for Spies June 22 through June 26\, 2026. The workshop runs daily from 9:30 a.m. to 1:30 p.m.\, with a final performance by participants scheduled for Friday at 6:00 p.m. The program is open to ages 7 to 18 and costs $50 per child. Space is limited to 60 participants. Registration is available online at www.our.show/spies
URL:https://kilj.com/event/friday-13/
END:VEVENT
END:VCALENDAR