BEGIN:VCALENDAR
VERSION:2.0
PRODID:-//KILJ Radio - ECPv6.15.20//NONSGML v1.0//EN
CALSCALE:GREGORIAN
METHOD:PUBLISH
X-WR-CALNAME:KILJ Radio
X-ORIGINAL-URL:https://kilj.com
X-WR-CALDESC:Events for KILJ Radio
REFRESH-INTERVAL;VALUE=DURATION:PT1H
X-Robots-Tag:noindex
X-PUBLISHED-TTL:PT1H
BEGIN:VTIMEZONE
TZID:America/Chicago
BEGIN:DAYLIGHT
TZOFFSETFROM:-0600
TZOFFSETTO:-0500
TZNAME:CDT
DTSTART:20250309T080000
END:DAYLIGHT
BEGIN:STANDARD
TZOFFSETFROM:-0500
TZOFFSETTO:-0600
TZNAME:CST
DTSTART:20251102T070000
END:STANDARD
BEGIN:DAYLIGHT
TZOFFSETFROM:-0600
TZOFFSETTO:-0500
TZNAME:CDT
DTSTART:20260308T080000
END:DAYLIGHT
BEGIN:STANDARD
TZOFFSETFROM:-0500
TZOFFSETTO:-0600
TZNAME:CST
DTSTART:20261101T070000
END:STANDARD
BEGIN:DAYLIGHT
TZOFFSETFROM:-0600
TZOFFSETTO:-0500
TZNAME:CDT
DTSTART:20270314T080000
END:DAYLIGHT
BEGIN:STANDARD
TZOFFSETFROM:-0500
TZOFFSETTO:-0600
TZNAME:CST
DTSTART:20271107T070000
END:STANDARD
END:VTIMEZONE
BEGIN:VEVENT
DTSTART;VALUE=DATE:20260314
DTEND;VALUE=DATE:20260315
DTSTAMP:20260420T131254
CREATED:20260217T120921Z
LAST-MODIFIED:20260312T040923Z
UID:189754-1773446400-1773532799@kilj.com
SUMMARY:Saturday
DESCRIPTION:The historic Harlan-Lincoln House in Mount Pleasant is open for tours Wednesdays and Saturdays from 2:00 to 4:00 p.m. March through October. Located at 101 West Broad Street\, the museum highlights the connection between Senator James Harlan and the family of President Abraham Lincoln\, featuring artifacts and stories from both families. Donations are appreciated\, and additional tour times may be scheduled by appointment. \nThe Trenton First Responders are hosting a Soup Supper from 5pm – 7pm.  The supper will be served at the Trenton Methodist Church and is a free will donation.  All proceeds will go toward the operating expenses for the Trenton First Responders. \nThe Lockridge Lions Club is holding their annual Soup Supper and Auction from 5pm – 7pm at the Lockridge Community Center.  The auction starts at 6:30pm.  Lockridge Lions club accepts donations of glasses and hearing aids.  You may bring the items to the soup supper\, or give them to any Lions member.
URL:https://kilj.com/event/saturday-13/
END:VEVENT
END:VCALENDAR