BEGIN:VCALENDAR
VERSION:2.0
PRODID:-//KILJ Radio - ECPv6.15.20//NONSGML v1.0//EN
CALSCALE:GREGORIAN
METHOD:PUBLISH
X-WR-CALNAME:KILJ Radio
X-ORIGINAL-URL:https://kilj.com
X-WR-CALDESC:Events for KILJ Radio
REFRESH-INTERVAL;VALUE=DURATION:PT1H
X-Robots-Tag:noindex
X-PUBLISHED-TTL:PT1H
BEGIN:VTIMEZONE
TZID:America/Chicago
BEGIN:DAYLIGHT
TZOFFSETFROM:-0600
TZOFFSETTO:-0500
TZNAME:CDT
DTSTART:20250309T080000
END:DAYLIGHT
BEGIN:STANDARD
TZOFFSETFROM:-0500
TZOFFSETTO:-0600
TZNAME:CST
DTSTART:20251102T070000
END:STANDARD
BEGIN:DAYLIGHT
TZOFFSETFROM:-0600
TZOFFSETTO:-0500
TZNAME:CDT
DTSTART:20260308T080000
END:DAYLIGHT
BEGIN:STANDARD
TZOFFSETFROM:-0500
TZOFFSETTO:-0600
TZNAME:CST
DTSTART:20261101T070000
END:STANDARD
BEGIN:DAYLIGHT
TZOFFSETFROM:-0600
TZOFFSETTO:-0500
TZNAME:CDT
DTSTART:20270314T080000
END:DAYLIGHT
BEGIN:STANDARD
TZOFFSETFROM:-0500
TZOFFSETTO:-0600
TZNAME:CST
DTSTART:20271107T070000
END:STANDARD
END:VTIMEZONE
BEGIN:VEVENT
DTSTART;VALUE=DATE:20260421
DTEND;VALUE=DATE:20260422
DTSTAMP:20260421T020814
CREATED:20260328T115126Z
LAST-MODIFIED:20260417T192134Z
UID:191517-1776729600-1776815999@kilj.com
SUMMARY:Tuesday
DESCRIPTION:The Nutman\, Co. will be in HCHC lobby from 8am – 2pm!  Choose from over 200 varieties of nuts\, chocolates\, snacks or more! \nIt’s TACO TUESDAY at the Mt. Pleasant Moose Lodge from 5pm – 7pm.  Taco salads\, walking tacos\, soft shells\, chicken and beef with all the fixings are on the menu.  Members and a guest are welcome and the meal is $5-$8. \nThe Mt. Pleasant Christian School\, 1505 E. Washington Street in Mt. Pleasant features Taco Tuesday from 5pm – 6:30pm.  Serving up softshell and walking tacos\, super nachos\, taco salad bowls\, homemade chips and salsa and soft-serve ice cream and chocolate chip cookies.  Dine-in\, carry out and pay with cash\, card\, or check! \n 
URL:https://kilj.com/event/tuesday-17/
END:VEVENT
END:VCALENDAR