BEGIN:VCALENDAR
VERSION:2.0
PRODID:-//KILJ Radio - ECPv6.15.20//NONSGML v1.0//EN
CALSCALE:GREGORIAN
METHOD:PUBLISH
X-ORIGINAL-URL:https://kilj.com
X-WR-CALDESC:Events for KILJ Radio
REFRESH-INTERVAL;VALUE=DURATION:PT1H
X-Robots-Tag:noindex
X-PUBLISHED-TTL:PT1H
BEGIN:VTIMEZONE
TZID:America/Chicago
BEGIN:DAYLIGHT
TZOFFSETFROM:-0600
TZOFFSETTO:-0500
TZNAME:CDT
DTSTART:20250309T080000
END:DAYLIGHT
BEGIN:STANDARD
TZOFFSETFROM:-0500
TZOFFSETTO:-0600
TZNAME:CST
DTSTART:20251102T070000
END:STANDARD
BEGIN:DAYLIGHT
TZOFFSETFROM:-0600
TZOFFSETTO:-0500
TZNAME:CDT
DTSTART:20260308T080000
END:DAYLIGHT
BEGIN:STANDARD
TZOFFSETFROM:-0500
TZOFFSETTO:-0600
TZNAME:CST
DTSTART:20261101T070000
END:STANDARD
BEGIN:DAYLIGHT
TZOFFSETFROM:-0600
TZOFFSETTO:-0500
TZNAME:CDT
DTSTART:20270314T080000
END:DAYLIGHT
BEGIN:STANDARD
TZOFFSETFROM:-0500
TZOFFSETTO:-0600
TZNAME:CST
DTSTART:20271107T070000
END:STANDARD
END:VTIMEZONE
BEGIN:VEVENT
DTSTART;VALUE=DATE:20260521
DTEND;VALUE=DATE:20260522
DTSTAMP:20260420T195826
CREATED:20260324T181118Z
LAST-MODIFIED:20260417T202113Z
UID:191305-1779321600-1779407999@kilj.com
SUMMARY:Thursday
DESCRIPTION:EveryStep Grief & Loss Services offers The Touching Our Grief support group from 4pm – 5:30pm.  It is free and open to anyone who needs support following the loss of a loved one.  The group meets in the EveryStep conference room\, 118 N. Main street in Mt. Pleasant.  For more information\, contact Amanda Day\, bereavement counselor at 319-330-1086\, or everystep.org. \nDMC Regional Waste will be in Winfield at City Hall on Thursdays from 8:30 to 9:30 AM for mobile recycling services. Residents can bring recyclables and rechargeable batteries for proper disposal. Learn more at dmcwaste.org. \nThe Mt. Pleasant Moose Lodge is serving delicious tenderloins from 5pm -7pm!  Hamburgers and fries are also on the menu.  Eat at the Moose or carry out!  Enjoy “Taco Tuesday” every Tuesday from 5pm – 7pm at the Moose lodge\, too! During the month of May\, the Moose will donate a $1.00 from each food item purchased to Jared’s Park at the Henry County Nature Center! \n 
URL:https://kilj.com/event/thursday-18/
END:VEVENT
END:VCALENDAR